BEGIN:VCALENDAR
VERSION:2.0
PRODID:-//jEvents 2.0 for Joomla//EN
CALSCALE:GREGORIAN
METHOD:PUBLISH
BEGIN:VTIMEZONE
TZID:Europe/Vienna
BEGIN:STANDARD
DTSTART:20201025T020000
RDATE:20210328T030000
TZOFFSETFROM:+0200
TZOFFSETTO:+0100
TZNAME:Europe/Vienna CET
END:STANDARD
BEGIN:STANDARD
DTSTART:20211031T020000
RDATE:20220327T030000
TZOFFSETFROM:+0200
TZOFFSETTO:+0100
TZNAME:Europe/Vienna CET
END:STANDARD
BEGIN:STANDARD
DTSTART:20221030T020000
RDATE:20230326T030000
TZOFFSETFROM:+0200
TZOFFSETTO:+0100
TZNAME:Europe/Vienna CET
END:STANDARD
BEGIN:STANDARD
DTSTART:20231029T020000
RDATE:20240331T030000
TZOFFSETFROM:+0200
TZOFFSETTO:+0100
TZNAME:Europe/Vienna CET
END:STANDARD
BEGIN:STANDARD
DTSTART:20241027T020000
RDATE:20250330T030000
TZOFFSETFROM:+0200
TZOFFSETTO:+0100
TZNAME:Europe/Vienna CET
END:STANDARD
BEGIN:STANDARD
DTSTART:20251026T020000
RDATE:20260329T030000
TZOFFSETFROM:+0200
TZOFFSETTO:+0100
TZNAME:Europe/Vienna CET
END:STANDARD
BEGIN:STANDARD
DTSTART:20261025T020000
RDATE:20270328T030000
TZOFFSETFROM:+0200
TZOFFSETTO:+0100
TZNAME:Europe/Vienna CET
END:STANDARD
BEGIN:STANDARD
DTSTART:20271031T020000
RDATE:20280326T030000
TZOFFSETFROM:+0200
TZOFFSETTO:+0100
TZNAME:Europe/Vienna CET
END:STANDARD
BEGIN:STANDARD
DTSTART:20281029T020000
RDATE:20290325T030000
TZOFFSETFROM:+0200
TZOFFSETTO:+0100
TZNAME:Europe/Vienna CET
END:STANDARD
BEGIN:STANDARD
DTSTART:20291028T020000
RDATE:20300331T030000
TZOFFSETFROM:+0200
TZOFFSETTO:+0100
TZNAME:Europe/Vienna CET
END:STANDARD
BEGIN:STANDARD
DTSTART:20301027T020000
RDATE:20310330T030000
TZOFFSETFROM:+0200
TZOFFSETTO:+0100
TZNAME:Europe/Vienna CET
END:STANDARD
BEGIN:DAYLIGHT
DTSTART:20200525T180000
RDATE:20201025T020000
TZOFFSETFROM:+0100
TZOFFSETTO:+0200
TZNAME:Europe/Vienna CEST
END:DAYLIGHT
BEGIN:DAYLIGHT
DTSTART:20210328T030000
RDATE:20211031T020000
TZOFFSETFROM:+0100
TZOFFSETTO:+0200
TZNAME:Europe/Vienna CEST
END:DAYLIGHT
BEGIN:DAYLIGHT
DTSTART:20220327T030000
RDATE:20221030T020000
TZOFFSETFROM:+0100
TZOFFSETTO:+0200
TZNAME:Europe/Vienna CEST
END:DAYLIGHT
BEGIN:DAYLIGHT
DTSTART:20230326T030000
RDATE:20231029T020000
TZOFFSETFROM:+0100
TZOFFSETTO:+0200
TZNAME:Europe/Vienna CEST
END:DAYLIGHT
BEGIN:DAYLIGHT
DTSTART:20240331T030000
RDATE:20241027T020000
TZOFFSETFROM:+0100
TZOFFSETTO:+0200
TZNAME:Europe/Vienna CEST
END:DAYLIGHT
BEGIN:DAYLIGHT
DTSTART:20250330T030000
RDATE:20251026T020000
TZOFFSETFROM:+0100
TZOFFSETTO:+0200
TZNAME:Europe/Vienna CEST
END:DAYLIGHT
BEGIN:DAYLIGHT
DTSTART:20260329T030000
RDATE:20261025T020000
TZOFFSETFROM:+0100
TZOFFSETTO:+0200
TZNAME:Europe/Vienna CEST
END:DAYLIGHT
BEGIN:DAYLIGHT
DTSTART:20270328T030000
RDATE:20271031T020000
TZOFFSETFROM:+0100
TZOFFSETTO:+0200
TZNAME:Europe/Vienna CEST
END:DAYLIGHT
BEGIN:DAYLIGHT
DTSTART:20280326T030000
RDATE:20281029T020000
TZOFFSETFROM:+0100
TZOFFSETTO:+0200
TZNAME:Europe/Vienna CEST
END:DAYLIGHT
BEGIN:DAYLIGHT
DTSTART:20290325T030000
RDATE:20291028T020000
TZOFFSETFROM:+0100
TZOFFSETTO:+0200
TZNAME:Europe/Vienna CEST
END:DAYLIGHT
BEGIN:DAYLIGHT
DTSTART:20300331T030000
RDATE:20301027T020000
TZOFFSETFROM:+0100
TZOFFSETTO:+0200
TZNAME:Europe/Vienna CEST
END:DAYLIGHT
END:VTIMEZONE
BEGIN:VEVENT
UID:29298d0b7b621ee22613d86cb6f6a969
CATEGORIES:REHEARSAL ROOM 2
CREATED:19700101T010000
SUMMARY:GuiltyPleasure
DESCRIPTION:
CONTACT:+4366488379833 - Dmitry
DTSTAMP:20260422T215639
DTSTART;TZID=Europe/Vienna:20210526T180000
DTEND;TZID=Europe/Vienna:20210526T230000
SEQUENCE:0
RRULE:FREQ=WEEKLY;UNTIL=20221002T000000Z;INTERVAL=1;BYDAY=WE
EXDATE;TZID=Europe/Vienna:20220525T180000
TRANSP:OPAQUE
END:VEVENT
BEGIN:VEVENT
UID:29298d0b7b621ee22613d86cb6f6a969
CATEGORIES:REHEARSAL ROOM 2
CREATED:20210524T162238
SUMMARY:GuiltyPleasure
DESCRIPTION:
URL;VALUE=URI:https://neu.vocal-union.at/index.php/de/proberaeume/booking/icalrepeat.deta
 il/2021/05/31/12880/-/guiltypleasure?tmpl=component
CONTACT:+4366488379833 - Dmitry

DTSTAMP:20260422T215639
DTSTART;TZID=Europe/Vienna:20210531T180000
DTEND;TZID=Europe/Vienna:20210531T230000
RECURRENCE-ID;TZID=Europe/Vienna:20210602T180000
SEQUENCE:0
TRANSP:OPAQUE
END:VEVENT
BEGIN:VEVENT
UID:29298d0b7b621ee22613d86cb6f6a969
CATEGORIES:REHEARSAL ROOM 2
CREATED:20210524T162238
SUMMARY:GuiltyPleasure
DESCRIPTION:
URL;VALUE=URI:https://neu.vocal-union.at/index.php/de/proberaeume/booking/icalrepeat.deta
 il/2021/08/26/12892/-/guiltypleasure?tmpl=component
CONTACT:+4366488379833 - Dmitry

DTSTAMP:20260422T215639
DTSTART;TZID=Europe/Vienna:20210826T180000
DTEND;TZID=Europe/Vienna:20210826T230000
RECURRENCE-ID;TZID=Europe/Vienna:20210825T180000
SEQUENCE:0
TRANSP:OPAQUE
END:VEVENT
BEGIN:VEVENT
UID:29298d0b7b621ee22613d86cb6f6a969
CATEGORIES:REHEARSAL ROOM 2
CREATED:20210524T162238
SUMMARY:GuiltyPleasure
DESCRIPTION:
URL;VALUE=URI:https://neu.vocal-union.at/index.php/de/proberaeume/booking/icalrepeat.deta
 il/2021/10/07/12898/-/guiltypleasure?tmpl=component
CONTACT:+4366488379833 - Dmitry

DTSTAMP:20260422T215639
DTSTART;TZID=Europe/Vienna:20211007T180000
DTEND;TZID=Europe/Vienna:20211007T230000
RECURRENCE-ID;TZID=Europe/Vienna:20211006T180000
SEQUENCE:0
TRANSP:OPAQUE
END:VEVENT
BEGIN:VEVENT
UID:29298d0b7b621ee22613d86cb6f6a969
CATEGORIES:REHEARSAL ROOM 2
CREATED:20210524T162238
SUMMARY:GuiltyPleasure
DESCRIPTION:
URL;VALUE=URI:https://neu.vocal-union.at/index.php/de/proberaeume/booking/icalrepeat.deta
 il/2021/10/21/12900/-/guiltypleasure?tmpl=component
CONTACT:+4366488379833 - Dmitry

DTSTAMP:20260422T215639
DTSTART;TZID=Europe/Vienna:20211021T180000
DTEND;TZID=Europe/Vienna:20211021T230000
RECURRENCE-ID;TZID=Europe/Vienna:20211020T180000
SEQUENCE:0
TRANSP:OPAQUE
END:VEVENT
END:VCALENDAR