BEGIN:VCALENDAR
VERSION:2.0
PRODID:-//jEvents 2.0 for Joomla//EN
CALSCALE:GREGORIAN
METHOD:PUBLISH
BEGIN:VTIMEZONE
TZID:Europe/Vienna
BEGIN:STANDARD
DTSTART:20231029T020000
RDATE:20240331T030000
TZOFFSETFROM:+0200
TZOFFSETTO:+0100
TZNAME:Europe/Vienna CET
END:STANDARD
BEGIN:STANDARD
DTSTART:20241027T020000
RDATE:20250330T030000
TZOFFSETFROM:+0200
TZOFFSETTO:+0100
TZNAME:Europe/Vienna CET
END:STANDARD
BEGIN:STANDARD
DTSTART:20251026T020000
RDATE:20260329T030000
TZOFFSETFROM:+0200
TZOFFSETTO:+0100
TZNAME:Europe/Vienna CET
END:STANDARD
BEGIN:STANDARD
DTSTART:20261025T020000
RDATE:20270328T030000
TZOFFSETFROM:+0200
TZOFFSETTO:+0100
TZNAME:Europe/Vienna CET
END:STANDARD
BEGIN:STANDARD
DTSTART:20271031T020000
RDATE:20280326T030000
TZOFFSETFROM:+0200
TZOFFSETTO:+0100
TZNAME:Europe/Vienna CET
END:STANDARD
BEGIN:STANDARD
DTSTART:20281029T020000
RDATE:20290325T030000
TZOFFSETFROM:+0200
TZOFFSETTO:+0100
TZNAME:Europe/Vienna CET
END:STANDARD
BEGIN:STANDARD
DTSTART:20291028T020000
RDATE:20300331T030000
TZOFFSETFROM:+0200
TZOFFSETTO:+0100
TZNAME:Europe/Vienna CET
END:STANDARD
BEGIN:STANDARD
DTSTART:20301027T020000
RDATE:20310330T030000
TZOFFSETFROM:+0200
TZOFFSETTO:+0100
TZNAME:Europe/Vienna CET
END:STANDARD
BEGIN:DAYLIGHT
DTSTART:20231001T180000
RDATE:20231029T020000
TZOFFSETFROM:+0100
TZOFFSETTO:+0200
TZNAME:Europe/Vienna CEST
END:DAYLIGHT
BEGIN:DAYLIGHT
DTSTART:20240331T030000
RDATE:20241027T020000
TZOFFSETFROM:+0100
TZOFFSETTO:+0200
TZNAME:Europe/Vienna CEST
END:DAYLIGHT
BEGIN:DAYLIGHT
DTSTART:20250330T030000
RDATE:20251026T020000
TZOFFSETFROM:+0100
TZOFFSETTO:+0200
TZNAME:Europe/Vienna CEST
END:DAYLIGHT
BEGIN:DAYLIGHT
DTSTART:20260329T030000
RDATE:20261025T020000
TZOFFSETFROM:+0100
TZOFFSETTO:+0200
TZNAME:Europe/Vienna CEST
END:DAYLIGHT
BEGIN:DAYLIGHT
DTSTART:20270328T030000
RDATE:20271031T020000
TZOFFSETFROM:+0100
TZOFFSETTO:+0200
TZNAME:Europe/Vienna CEST
END:DAYLIGHT
BEGIN:DAYLIGHT
DTSTART:20280326T030000
RDATE:20281029T020000
TZOFFSETFROM:+0100
TZOFFSETTO:+0200
TZNAME:Europe/Vienna CEST
END:DAYLIGHT
BEGIN:DAYLIGHT
DTSTART:20290325T030000
RDATE:20291028T020000
TZOFFSETFROM:+0100
TZOFFSETTO:+0200
TZNAME:Europe/Vienna CEST
END:DAYLIGHT
BEGIN:DAYLIGHT
DTSTART:20300331T030000
RDATE:20301027T020000
TZOFFSETFROM:+0100
TZOFFSETTO:+0200
TZNAME:Europe/Vienna CEST
END:DAYLIGHT
END:VTIMEZONE
BEGIN:VEVENT
UID:23986995c62dd96c664bb61482b43514
CATEGORIES:REHEARSAL ROOM 2
CREATED:19700101T010000
SUMMARY:Guilty Pleasures
DESCRIPTION:
CONTACT:+4366488379833 - Dmitry
DTSTAMP:20260423T061238
DTSTART;TZID=Europe/Vienna:20241001T180000
DTEND;TZID=Europe/Vienna:20241001T220000
SEQUENCE:0
RRULE:FREQ=WEEKLY;UNTIL=20251002T000000Z;INTERVAL=1;BYDAY=TU
TRANSP:OPAQUE
END:VEVENT
BEGIN:VEVENT
UID:23986995c62dd96c664bb61482b43514
CATEGORIES:REHEARSAL ROOM 2
CREATED:20240926T124955
SUMMARY:Guilty Pleasures
DESCRIPTION:
URL;VALUE=URI:https://neu.vocal-union.at/index.php/de/proberaeume/booking/icalrepeat.deta
 il/2025/07/14/18699/-/guilty-pleasures?tmpl=component
CONTACT:+4366488379833 - Dmitry

DTSTAMP:20260423T061238
DTSTART;TZID=Europe/Vienna:20250714T180000
DTEND;TZID=Europe/Vienna:20250714T220000
RECURRENCE-ID;TZID=Europe/Vienna:20250715T180000
SEQUENCE:0
TRANSP:OPAQUE
END:VEVENT
BEGIN:VEVENT
UID:23986995c62dd96c664bb61482b43514
CATEGORIES:REHEARSAL ROOM 2
CREATED:20240926T124955
SUMMARY:Guilty Pleasures
DESCRIPTION:
URL;VALUE=URI:https://neu.vocal-union.at/index.php/de/proberaeume/booking/icalrepeat.deta
 il/2025/07/21/18700/-/guilty-pleasures?tmpl=component
CONTACT:+4366488379833 - Dmitry

DTSTAMP:20260423T061238
DTSTART;TZID=Europe/Vienna:20250721T180000
DTEND;TZID=Europe/Vienna:20250721T220000
RECURRENCE-ID;TZID=Europe/Vienna:20250722T180000
SEQUENCE:0
TRANSP:OPAQUE
END:VEVENT
END:VCALENDAR