BEGIN:VCALENDAR
VERSION:2.0
PRODID:-//jEvents 2.0 for Joomla//EN
CALSCALE:GREGORIAN
METHOD:PUBLISH
BEGIN:VTIMEZONE
TZID:Europe/Vienna
BEGIN:STANDARD
DTSTART:20250111T180000
RDATE:20250330T030000
TZOFFSETFROM:+0200
TZOFFSETTO:+0100
TZNAME:Europe/Vienna CET
END:STANDARD
BEGIN:STANDARD
DTSTART:20251026T020000
RDATE:20260329T030000
TZOFFSETFROM:+0200
TZOFFSETTO:+0100
TZNAME:Europe/Vienna CET
END:STANDARD
BEGIN:STANDARD
DTSTART:20261025T020000
RDATE:20270328T030000
TZOFFSETFROM:+0200
TZOFFSETTO:+0100
TZNAME:Europe/Vienna CET
END:STANDARD
BEGIN:STANDARD
DTSTART:20271031T020000
RDATE:20280326T030000
TZOFFSETFROM:+0200
TZOFFSETTO:+0100
TZNAME:Europe/Vienna CET
END:STANDARD
BEGIN:STANDARD
DTSTART:20281029T020000
RDATE:20290325T030000
TZOFFSETFROM:+0200
TZOFFSETTO:+0100
TZNAME:Europe/Vienna CET
END:STANDARD
BEGIN:STANDARD
DTSTART:20291028T020000
RDATE:20300331T030000
TZOFFSETFROM:+0200
TZOFFSETTO:+0100
TZNAME:Europe/Vienna CET
END:STANDARD
BEGIN:STANDARD
DTSTART:20301027T020000
RDATE:20310330T030000
TZOFFSETFROM:+0200
TZOFFSETTO:+0100
TZNAME:Europe/Vienna CET
END:STANDARD
BEGIN:DAYLIGHT
DTSTART:20250330T030000
RDATE:20251026T020000
TZOFFSETFROM:+0100
TZOFFSETTO:+0200
TZNAME:Europe/Vienna CEST
END:DAYLIGHT
BEGIN:DAYLIGHT
DTSTART:20260329T030000
RDATE:20261025T020000
TZOFFSETFROM:+0100
TZOFFSETTO:+0200
TZNAME:Europe/Vienna CEST
END:DAYLIGHT
BEGIN:DAYLIGHT
DTSTART:20270328T030000
RDATE:20271031T020000
TZOFFSETFROM:+0100
TZOFFSETTO:+0200
TZNAME:Europe/Vienna CEST
END:DAYLIGHT
BEGIN:DAYLIGHT
DTSTART:20280326T030000
RDATE:20281029T020000
TZOFFSETFROM:+0100
TZOFFSETTO:+0200
TZNAME:Europe/Vienna CEST
END:DAYLIGHT
BEGIN:DAYLIGHT
DTSTART:20290325T030000
RDATE:20291028T020000
TZOFFSETFROM:+0100
TZOFFSETTO:+0200
TZNAME:Europe/Vienna CEST
END:DAYLIGHT
BEGIN:DAYLIGHT
DTSTART:20300331T030000
RDATE:20301027T020000
TZOFFSETFROM:+0100
TZOFFSETTO:+0200
TZNAME:Europe/Vienna CEST
END:DAYLIGHT
END:VTIMEZONE
BEGIN:VEVENT
UID:526cc9126823dac16deb0104b7223067
CATEGORIES:REHEARSAL ROOM 2
CREATED:19700101T010000
SUMMARY:Guilty pleasures 
DESCRIPTION:
DTSTAMP:20260422T224124
DTSTART;TZID=Europe/Vienna:20260112T180000
DTEND;TZID=Europe/Vienna:20260112T220000
SEQUENCE:0
RRULE:FREQ=WEEKLY;UNTIL=20270105T000000Z;INTERVAL=1;BYDAY=MO
TRANSP:OPAQUE
END:VEVENT
BEGIN:VEVENT
UID:526cc9126823dac16deb0104b7223067
CATEGORIES:REHEARSAL ROOM 2
CREATED:20251016T073835
SUMMARY:Guilty pleasures 
DESCRIPTION:
URL;VALUE=URI:https://neu.vocal-union.at/index.php/de/proberaeume/booking/icalrepeat.deta
 il/2026/01/27/20551/-/guilty-pleasures?tmpl=component

DTSTAMP:20260422T224124
DTSTART;TZID=Europe/Vienna:20260127T180000
DTEND;TZID=Europe/Vienna:20260127T220000
RECURRENCE-ID;TZID=Europe/Vienna:20260126T180000
SEQUENCE:0
TRANSP:OPAQUE
END:VEVENT
BEGIN:VEVENT
UID:526cc9126823dac16deb0104b7223067
CATEGORIES:REHEARSAL ROOM 2
CREATED:20251016T073835
SUMMARY:Guilty pleasures 
DESCRIPTION:
URL;VALUE=URI:https://neu.vocal-union.at/index.php/de/proberaeume/booking/icalrepeat.deta
 il/2026/02/24/20904/-/guilty-pleasures?tmpl=component

DTSTAMP:20260422T224124
DTSTART;TZID=Europe/Vienna:20260224T180000
DTEND;TZID=Europe/Vienna:20260224T220000
RECURRENCE-ID;TZID=Europe/Vienna:20260223T180000
SEQUENCE:0
TRANSP:OPAQUE
END:VEVENT
BEGIN:VEVENT
UID:526cc9126823dac16deb0104b7223067
CATEGORIES:REHEARSAL ROOM 2
CREATED:20251016T073835
SUMMARY:Guilty pleasures 
DESCRIPTION:
URL;VALUE=URI:https://neu.vocal-union.at/index.php/de/proberaeume/booking/icalrepeat.deta
 il/2026/03/19/20907/-/guilty-pleasures?tmpl=component

DTSTAMP:20260422T224124
DTSTART;TZID=Europe/Vienna:20260319T180000
DTEND;TZID=Europe/Vienna:20260319T220000
RECURRENCE-ID;TZID=Europe/Vienna:20260316T180000
SEQUENCE:0
TRANSP:OPAQUE
END:VEVENT
END:VCALENDAR