BEGIN:VCALENDAR
VERSION:2.0
PRODID:-//jEvents 2.0 for Joomla//EN
CALSCALE:GREGORIAN
METHOD:PUBLISH
BEGIN:VTIMEZONE
TZID:Europe/Vienna
BEGIN:STANDARD
DTSTART:20171029T020000
RDATE:20180325T030000
TZOFFSETFROM:+0200
TZOFFSETTO:+0100
TZNAME:Europe/Vienna CET
END:STANDARD
BEGIN:STANDARD
DTSTART:20181028T020000
RDATE:20190331T030000
TZOFFSETFROM:+0200
TZOFFSETTO:+0100
TZNAME:Europe/Vienna CET
END:STANDARD
BEGIN:STANDARD
DTSTART:20191027T020000
RDATE:20200329T030000
TZOFFSETFROM:+0200
TZOFFSETTO:+0100
TZNAME:Europe/Vienna CET
END:STANDARD
BEGIN:STANDARD
DTSTART:20201025T020000
RDATE:20210328T030000
TZOFFSETFROM:+0200
TZOFFSETTO:+0100
TZNAME:Europe/Vienna CET
END:STANDARD
BEGIN:STANDARD
DTSTART:20211031T020000
RDATE:20220327T030000
TZOFFSETFROM:+0200
TZOFFSETTO:+0100
TZNAME:Europe/Vienna CET
END:STANDARD
BEGIN:STANDARD
DTSTART:20221030T020000
RDATE:20230326T030000
TZOFFSETFROM:+0200
TZOFFSETTO:+0100
TZNAME:Europe/Vienna CET
END:STANDARD
BEGIN:STANDARD
DTSTART:20231029T020000
RDATE:20240331T030000
TZOFFSETFROM:+0200
TZOFFSETTO:+0100
TZNAME:Europe/Vienna CET
END:STANDARD
BEGIN:STANDARD
DTSTART:20241027T020000
RDATE:20250330T030000
TZOFFSETFROM:+0200
TZOFFSETTO:+0100
TZNAME:Europe/Vienna CET
END:STANDARD
BEGIN:STANDARD
DTSTART:20251026T020000
RDATE:20260329T030000
TZOFFSETFROM:+0200
TZOFFSETTO:+0100
TZNAME:Europe/Vienna CET
END:STANDARD
BEGIN:STANDARD
DTSTART:20261025T020000
RDATE:20270328T030000
TZOFFSETFROM:+0200
TZOFFSETTO:+0100
TZNAME:Europe/Vienna CET
END:STANDARD
BEGIN:STANDARD
DTSTART:20271031T020000
RDATE:20280326T030000
TZOFFSETFROM:+0200
TZOFFSETTO:+0100
TZNAME:Europe/Vienna CET
END:STANDARD
BEGIN:STANDARD
DTSTART:20281029T020000
RDATE:20290325T030000
TZOFFSETFROM:+0200
TZOFFSETTO:+0100
TZNAME:Europe/Vienna CET
END:STANDARD
BEGIN:STANDARD
DTSTART:20291028T020000
RDATE:20300331T030000
TZOFFSETFROM:+0200
TZOFFSETTO:+0100
TZNAME:Europe/Vienna CET
END:STANDARD
BEGIN:STANDARD
DTSTART:20301027T020000
RDATE:20310330T030000
TZOFFSETFROM:+0200
TZOFFSETTO:+0100
TZNAME:Europe/Vienna CET
END:STANDARD
BEGIN:DAYLIGHT
DTSTART:20170524T180000
RDATE:20171029T020000
TZOFFSETFROM:+0100
TZOFFSETTO:+0200
TZNAME:Europe/Vienna CEST
END:DAYLIGHT
BEGIN:DAYLIGHT
DTSTART:20180325T030000
RDATE:20181028T020000
TZOFFSETFROM:+0100
TZOFFSETTO:+0200
TZNAME:Europe/Vienna CEST
END:DAYLIGHT
BEGIN:DAYLIGHT
DTSTART:20190331T030000
RDATE:20191027T020000
TZOFFSETFROM:+0100
TZOFFSETTO:+0200
TZNAME:Europe/Vienna CEST
END:DAYLIGHT
BEGIN:DAYLIGHT
DTSTART:20200329T030000
RDATE:20201025T020000
TZOFFSETFROM:+0100
TZOFFSETTO:+0200
TZNAME:Europe/Vienna CEST
END:DAYLIGHT
BEGIN:DAYLIGHT
DTSTART:20210328T030000
RDATE:20211031T020000
TZOFFSETFROM:+0100
TZOFFSETTO:+0200
TZNAME:Europe/Vienna CEST
END:DAYLIGHT
BEGIN:DAYLIGHT
DTSTART:20220327T030000
RDATE:20221030T020000
TZOFFSETFROM:+0100
TZOFFSETTO:+0200
TZNAME:Europe/Vienna CEST
END:DAYLIGHT
BEGIN:DAYLIGHT
DTSTART:20230326T030000
RDATE:20231029T020000
TZOFFSETFROM:+0100
TZOFFSETTO:+0200
TZNAME:Europe/Vienna CEST
END:DAYLIGHT
BEGIN:DAYLIGHT
DTSTART:20240331T030000
RDATE:20241027T020000
TZOFFSETFROM:+0100
TZOFFSETTO:+0200
TZNAME:Europe/Vienna CEST
END:DAYLIGHT
BEGIN:DAYLIGHT
DTSTART:20250330T030000
RDATE:20251026T020000
TZOFFSETFROM:+0100
TZOFFSETTO:+0200
TZNAME:Europe/Vienna CEST
END:DAYLIGHT
BEGIN:DAYLIGHT
DTSTART:20260329T030000
RDATE:20261025T020000
TZOFFSETFROM:+0100
TZOFFSETTO:+0200
TZNAME:Europe/Vienna CEST
END:DAYLIGHT
BEGIN:DAYLIGHT
DTSTART:20270328T030000
RDATE:20271031T020000
TZOFFSETFROM:+0100
TZOFFSETTO:+0200
TZNAME:Europe/Vienna CEST
END:DAYLIGHT
BEGIN:DAYLIGHT
DTSTART:20280326T030000
RDATE:20281029T020000
TZOFFSETFROM:+0100
TZOFFSETTO:+0200
TZNAME:Europe/Vienna CEST
END:DAYLIGHT
BEGIN:DAYLIGHT
DTSTART:20290325T030000
RDATE:20291028T020000
TZOFFSETFROM:+0100
TZOFFSETTO:+0200
TZNAME:Europe/Vienna CEST
END:DAYLIGHT
BEGIN:DAYLIGHT
DTSTART:20300331T030000
RDATE:20301027T020000
TZOFFSETFROM:+0100
TZOFFSETTO:+0200
TZNAME:Europe/Vienna CEST
END:DAYLIGHT
END:VTIMEZONE
BEGIN:VEVENT
UID:beff119866542588d97aea6d9e828a88
CATEGORIES:REHEARSAL ROOM 1
CREATED:19700101T010000
SUMMARY:Alois.Session
DESCRIPTION:
X-EXTRAINFO:\n\n
DTSTAMP:20260423T061335
DTSTART;TZID=Europe/Vienna:20180525T180000
SEQUENCE:0
RRULE:FREQ=WEEKLY;COUNT=24;INTERVAL=1;BYDAY=FR
TRANSP:OPAQUE
END:VEVENT
BEGIN:VEVENT
UID:beff119866542588d97aea6d9e828a88
CATEGORIES:REHEARSAL ROOM 1
CREATED:20180407T102820
SUMMARY:Alois.Session
DESCRIPTION:
URL;VALUE=URI:https://neu.vocal-union.at/index.php/de/proberaeume/booking/icalrepeat.deta
 il/2018/10/05/6006/-/alois-session?tmpl=component
X-EXTRAINFO:
DTSTAMP:20260423T061335
DTSTART;TZID=Europe/Vienna:20181005T120000
DTEND;TZID=Europe/Vienna:20181005T235959
RECURRENCE-ID;TZID=Europe/Vienna:20181005T180000
SEQUENCE:0
TRANSP:OPAQUE
END:VEVENT
BEGIN:VEVENT
UID:beff119866542588d97aea6d9e828a88
CATEGORIES:REHEARSAL ROOM 1
CREATED:20180407T102820
SUMMARY:Alois.Session
DESCRIPTION:
URL;VALUE=URI:https://neu.vocal-union.at/index.php/de/proberaeume/booking/icalrepeat.deta
 il/2018/10/12/6007/-/alois-session?tmpl=component
X-EXTRAINFO:
DTSTAMP:20260423T061335
DTSTART;TZID=Europe/Vienna:20181012T120000
DTEND;TZID=Europe/Vienna:20181012T235959
RECURRENCE-ID;TZID=Europe/Vienna:20181012T180000
SEQUENCE:0
TRANSP:OPAQUE
END:VEVENT
BEGIN:VEVENT
UID:beff119866542588d97aea6d9e828a88
CATEGORIES:REHEARSAL ROOM 1
CREATED:20180407T102820
SUMMARY:Alois.Session
DESCRIPTION:
URL;VALUE=URI:https://neu.vocal-union.at/index.php/de/proberaeume/booking/icalrepeat.deta
 il/2018/10/19/6008/-/alois-session?tmpl=component
X-EXTRAINFO:
DTSTAMP:20260423T061335
DTSTART;TZID=Europe/Vienna:20181019T120000
DTEND;TZID=Europe/Vienna:20181019T235959
RECURRENCE-ID;TZID=Europe/Vienna:20181019T180000
SEQUENCE:0
TRANSP:OPAQUE
END:VEVENT
BEGIN:VEVENT
UID:beff119866542588d97aea6d9e828a88
CATEGORIES:REHEARSAL ROOM 1
CREATED:20180407T102820
SUMMARY:Alois.Session
DESCRIPTION:
URL;VALUE=URI:https://neu.vocal-union.at/index.php/de/proberaeume/booking/icalrepeat.deta
 il/2018/10/26/6009/-/alois-session?tmpl=component
X-EXTRAINFO:
DTSTAMP:20260423T061335
DTSTART;TZID=Europe/Vienna:20181026T120000
DTEND;TZID=Europe/Vienna:20181026T235959
RECURRENCE-ID;TZID=Europe/Vienna:20181026T180000
SEQUENCE:0
TRANSP:OPAQUE
END:VEVENT
END:VCALENDAR