BEGIN:VCALENDAR
VERSION:2.0
PRODID:-//jEvents 2.0 for Joomla//EN
CALSCALE:GREGORIAN
METHOD:PUBLISH
BEGIN:VTIMEZONE
TZID:Europe/Vienna
BEGIN:STANDARD
DTSTART:20180319T180000
RDATE:20180325T030000
TZOFFSETFROM:+0200
TZOFFSETTO:+0100
TZNAME:Europe/Vienna CET
END:STANDARD
BEGIN:STANDARD
DTSTART:20181028T020000
RDATE:20190331T030000
TZOFFSETFROM:+0200
TZOFFSETTO:+0100
TZNAME:Europe/Vienna CET
END:STANDARD
BEGIN:STANDARD
DTSTART:20191027T020000
RDATE:20200329T030000
TZOFFSETFROM:+0200
TZOFFSETTO:+0100
TZNAME:Europe/Vienna CET
END:STANDARD
BEGIN:STANDARD
DTSTART:20201025T020000
RDATE:20210328T030000
TZOFFSETFROM:+0200
TZOFFSETTO:+0100
TZNAME:Europe/Vienna CET
END:STANDARD
BEGIN:STANDARD
DTSTART:20211031T020000
RDATE:20220327T030000
TZOFFSETFROM:+0200
TZOFFSETTO:+0100
TZNAME:Europe/Vienna CET
END:STANDARD
BEGIN:STANDARD
DTSTART:20221030T020000
RDATE:20230326T030000
TZOFFSETFROM:+0200
TZOFFSETTO:+0100
TZNAME:Europe/Vienna CET
END:STANDARD
BEGIN:STANDARD
DTSTART:20231029T020000
RDATE:20240331T030000
TZOFFSETFROM:+0200
TZOFFSETTO:+0100
TZNAME:Europe/Vienna CET
END:STANDARD
BEGIN:STANDARD
DTSTART:20241027T020000
RDATE:20250330T030000
TZOFFSETFROM:+0200
TZOFFSETTO:+0100
TZNAME:Europe/Vienna CET
END:STANDARD
BEGIN:STANDARD
DTSTART:20251026T020000
RDATE:20260329T030000
TZOFFSETFROM:+0200
TZOFFSETTO:+0100
TZNAME:Europe/Vienna CET
END:STANDARD
BEGIN:STANDARD
DTSTART:20261025T020000
RDATE:20270328T030000
TZOFFSETFROM:+0200
TZOFFSETTO:+0100
TZNAME:Europe/Vienna CET
END:STANDARD
BEGIN:STANDARD
DTSTART:20271031T020000
RDATE:20280326T030000
TZOFFSETFROM:+0200
TZOFFSETTO:+0100
TZNAME:Europe/Vienna CET
END:STANDARD
BEGIN:STANDARD
DTSTART:20281029T020000
RDATE:20290325T030000
TZOFFSETFROM:+0200
TZOFFSETTO:+0100
TZNAME:Europe/Vienna CET
END:STANDARD
BEGIN:STANDARD
DTSTART:20291028T020000
RDATE:20300331T030000
TZOFFSETFROM:+0200
TZOFFSETTO:+0100
TZNAME:Europe/Vienna CET
END:STANDARD
BEGIN:STANDARD
DTSTART:20301027T020000
RDATE:20310330T030000
TZOFFSETFROM:+0200
TZOFFSETTO:+0100
TZNAME:Europe/Vienna CET
END:STANDARD
BEGIN:DAYLIGHT
DTSTART:20180325T030000
RDATE:20181028T020000
TZOFFSETFROM:+0100
TZOFFSETTO:+0200
TZNAME:Europe/Vienna CEST
END:DAYLIGHT
BEGIN:DAYLIGHT
DTSTART:20190331T030000
RDATE:20191027T020000
TZOFFSETFROM:+0100
TZOFFSETTO:+0200
TZNAME:Europe/Vienna CEST
END:DAYLIGHT
BEGIN:DAYLIGHT
DTSTART:20200329T030000
RDATE:20201025T020000
TZOFFSETFROM:+0100
TZOFFSETTO:+0200
TZNAME:Europe/Vienna CEST
END:DAYLIGHT
BEGIN:DAYLIGHT
DTSTART:20210328T030000
RDATE:20211031T020000
TZOFFSETFROM:+0100
TZOFFSETTO:+0200
TZNAME:Europe/Vienna CEST
END:DAYLIGHT
BEGIN:DAYLIGHT
DTSTART:20220327T030000
RDATE:20221030T020000
TZOFFSETFROM:+0100
TZOFFSETTO:+0200
TZNAME:Europe/Vienna CEST
END:DAYLIGHT
BEGIN:DAYLIGHT
DTSTART:20230326T030000
RDATE:20231029T020000
TZOFFSETFROM:+0100
TZOFFSETTO:+0200
TZNAME:Europe/Vienna CEST
END:DAYLIGHT
BEGIN:DAYLIGHT
DTSTART:20240331T030000
RDATE:20241027T020000
TZOFFSETFROM:+0100
TZOFFSETTO:+0200
TZNAME:Europe/Vienna CEST
END:DAYLIGHT
BEGIN:DAYLIGHT
DTSTART:20250330T030000
RDATE:20251026T020000
TZOFFSETFROM:+0100
TZOFFSETTO:+0200
TZNAME:Europe/Vienna CEST
END:DAYLIGHT
BEGIN:DAYLIGHT
DTSTART:20260329T030000
RDATE:20261025T020000
TZOFFSETFROM:+0100
TZOFFSETTO:+0200
TZNAME:Europe/Vienna CEST
END:DAYLIGHT
BEGIN:DAYLIGHT
DTSTART:20270328T030000
RDATE:20271031T020000
TZOFFSETFROM:+0100
TZOFFSETTO:+0200
TZNAME:Europe/Vienna CEST
END:DAYLIGHT
BEGIN:DAYLIGHT
DTSTART:20280326T030000
RDATE:20281029T020000
TZOFFSETFROM:+0100
TZOFFSETTO:+0200
TZNAME:Europe/Vienna CEST
END:DAYLIGHT
BEGIN:DAYLIGHT
DTSTART:20290325T030000
RDATE:20291028T020000
TZOFFSETFROM:+0100
TZOFFSETTO:+0200
TZNAME:Europe/Vienna CEST
END:DAYLIGHT
BEGIN:DAYLIGHT
DTSTART:20300331T030000
RDATE:20301027T020000
TZOFFSETFROM:+0100
TZOFFSETTO:+0200
TZNAME:Europe/Vienna CEST
END:DAYLIGHT
END:VTIMEZONE
BEGIN:VEVENT
UID:99802bdf5917145462c01cf2bcccd40f
CATEGORIES:REHEARSAL ROOM 1
CREATED:20181218T194858
SUMMARY:Alois.drums
DESCRIPTION:
DTSTAMP:20260422T222135
DTSTART;TZID=Europe/Vienna:20190320T080000
SEQUENCE:0
RRULE:FREQ=WEEKLY;COUNT=20;INTERVAL=1;BYDAY=WE
EXDATE;TZID=Europe/Vienna:20190501T080000,20190515T080000
TRANSP:OPAQUE
END:VEVENT
BEGIN:VEVENT
UID:99802bdf5917145462c01cf2bcccd40f
CATEGORIES:REHEARSAL ROOM 1
CREATED:20181218T194858
SUMMARY:Alois.drums
DESCRIPTION:
URL;VALUE=URI:https://neu.vocal-union.at/index.php/de/proberaeume/booking/icalrepeat.deta
 il/2019/03/20/7430/-/alois-drums?tmpl=component

DTSTAMP:20260422T222135
DTSTART;TZID=Europe/Vienna:20190320T180000
DTEND;TZID=Europe/Vienna:20190320T235959
RECURRENCE-ID;TZID=Europe/Vienna:20190320T080000
SEQUENCE:0
TRANSP:OPAQUE
END:VEVENT
BEGIN:VEVENT
UID:99802bdf5917145462c01cf2bcccd40f
CATEGORIES:REHEARSAL ROOM 1
CREATED:20181218T194858
SUMMARY:Alois.drums
DESCRIPTION:
URL;VALUE=URI:https://neu.vocal-union.at/index.php/de/proberaeume/booking/icalrepeat.deta
 il/2019/03/27/7431/-/alois-drums?tmpl=component

DTSTAMP:20260422T222135
DTSTART;TZID=Europe/Vienna:20190327T180000
DTEND;TZID=Europe/Vienna:20190327T235959
RECURRENCE-ID;TZID=Europe/Vienna:20190327T080000
SEQUENCE:0
TRANSP:OPAQUE
END:VEVENT
BEGIN:VEVENT
UID:99802bdf5917145462c01cf2bcccd40f
CATEGORIES:REHEARSAL ROOM 1
CREATED:20181218T194858
SUMMARY:Alois.drums
DESCRIPTION:
URL;VALUE=URI:https://neu.vocal-union.at/index.php/de/proberaeume/booking/icalrepeat.deta
 il/2019/04/03/7432/-/alois-drums?tmpl=component

DTSTAMP:20260422T222135
DTSTART;TZID=Europe/Vienna:20190403T170000
DTEND;TZID=Europe/Vienna:20190403T235959
RECURRENCE-ID;TZID=Europe/Vienna:20190403T080000
SEQUENCE:0
TRANSP:OPAQUE
END:VEVENT
BEGIN:VEVENT
UID:99802bdf5917145462c01cf2bcccd40f
CATEGORIES:REHEARSAL ROOM 1
CREATED:20181218T194858
SUMMARY:Alois.drums
DESCRIPTION:
URL;VALUE=URI:https://neu.vocal-union.at/index.php/de/proberaeume/booking/icalrepeat.deta
 il/2019/04/10/7433/-/alois-drums?tmpl=component

DTSTAMP:20260422T222135
DTSTART;TZID=Europe/Vienna:20190410T170000
DTEND;TZID=Europe/Vienna:20190410T235959
RECURRENCE-ID;TZID=Europe/Vienna:20190410T080000
SEQUENCE:0
TRANSP:OPAQUE
END:VEVENT
BEGIN:VEVENT
UID:99802bdf5917145462c01cf2bcccd40f
CATEGORIES:REHEARSAL ROOM 1
CREATED:20181218T194858
SUMMARY:Alois.drums
DESCRIPTION:
URL;VALUE=URI:https://neu.vocal-union.at/index.php/de/proberaeume/booking/icalrepeat.deta
 il/2019/04/17/7434/-/alois-drums?tmpl=component

DTSTAMP:20260422T222135
DTSTART;TZID=Europe/Vienna:20190417T170000
DTEND;TZID=Europe/Vienna:20190417T235959
RECURRENCE-ID;TZID=Europe/Vienna:20190417T080000
SEQUENCE:0
TRANSP:OPAQUE
END:VEVENT
BEGIN:VEVENT
UID:99802bdf5917145462c01cf2bcccd40f
CATEGORIES:REHEARSAL ROOM 1
CREATED:20181218T194858
SUMMARY:Alois.drums
DESCRIPTION:
URL;VALUE=URI:https://neu.vocal-union.at/index.php/de/proberaeume/booking/icalrepeat.deta
 il/2019/05/15/7435/-/alois-drums?tmpl=component

DTSTAMP:20260422T222135
DTSTART;TZID=Europe/Vienna:20190515T170000
DTEND;TZID=Europe/Vienna:20190515T235959
RECURRENCE-ID;TZID=Europe/Vienna:20190424T080000
SEQUENCE:0
TRANSP:OPAQUE
END:VEVENT
BEGIN:VEVENT
UID:99802bdf5917145462c01cf2bcccd40f
CATEGORIES:REHEARSAL ROOM 1
CREATED:20181218T194858
SUMMARY:Alois.drums
DESCRIPTION:
URL;VALUE=URI:https://neu.vocal-union.at/index.php/de/proberaeume/booking/icalrepeat.deta
 il/2019/05/08/7437/-/alois-drums?tmpl=component

DTSTAMP:20260422T222135
DTSTART;TZID=Europe/Vienna:20190508T170000
DTEND;TZID=Europe/Vienna:20190508T235959
RECURRENCE-ID;TZID=Europe/Vienna:20190508T080000
SEQUENCE:0
TRANSP:OPAQUE
END:VEVENT
END:VCALENDAR